BEGIN:VCALENDAR
VERSION:2.0
PRODID:-//ChamberMaster//Event Calendar 2.0//EN
METHOD:PUBLISH
X-PUBLISHED-TTL:P3D
REFRESH-INTERVAL:P3D
CALSCALE:GREGORIAN
BEGIN:VEVENT
DTSTART:20240229T180000Z
DTEND:20240229T210000Z
X-MICROSOFT-CDO-ALLDAYEVENT:FALSE
SUMMARY:Monrovia Community Job and Resource Fair
DESCRIPTION:Monrovia Community Job and Resource Fair\n\nFor more information contact Armenag.chemsian@edd.ca.gov
X-ALT-DESC;FMTTYPE=text/html:Monrovia Community Job and Resource Fair<br />\nFor more information contact Armenag.chemsian@edd.ca.gov
LOCATION:Monrovia Adult School 920 S. Mountain Ave.\, Monrovia\, CA 91016
UID:e.2114.3023
SEQUENCE:3
DTSTAMP:20260420T075928Z
URL:https://www.monroviacc.com/events/details/monrovia-community-job-and-resource-fair-3023
END:VEVENT

END:VCALENDAR
