BEGIN:VCALENDAR
VERSION:2.0
PRODID:-//ChamberMaster//Event Calendar 2.0//EN
METHOD:PUBLISH
X-PUBLISHED-TTL:P3D
REFRESH-INTERVAL:P3D
CALSCALE:GREGORIAN
BEGIN:VEVENT
DTSTART:20200125T020000Z
DTEND:20200125T060000Z
X-MICROSOFT-CDO-ALLDAYEVENT:FALSE
SUMMARY:Monrovia Chamber Awards Gala & Membership Dinner
DESCRIPTION:The Monrovia Chamber of Commerce and Incoming President Judy Schaeffler cordially invites you to Awards Gala & Membership Dinner Honoring\n\nThe Iris Award\, Darrell G. Brooke\n\nThe Monroe Award\, 38 Degrees Alehouse & Grill\n\nThe Service to the Chamber Award\, John Watson\n\nMilitary Service and Stewardship Award\, Monrovia Library Veterans Resource Center\n\nThe Pam Fitzpatrick Award\, Diane Balsamo\n\nCOCKTAIL ATTIRE!
X-ALT-DESC;FMTTYPE=text/html:The Monrovia Chamber of Commerce and Incoming President Judy Schaeffler cordially invites you to Awards Gala &amp\; Membership Dinner Honoring<br />\nThe Iris Award\, Darrell G. Brooke<br />\nThe Monroe Award\, 38 Degrees Alehouse &amp\; Grill<br />\nThe Service to the Chamber Award\, John Watson<br />\nMilitary Service and Stewardship Award\, Monrovia Library Veterans Resource Center<br />\nThe Pam Fitzpatrick Award\, Diane Balsamo<br />\n<u><em><strong>COCKTAIL ATTIRE!&nbsp\;&nbsp\;&nbsp\;</strong></em></u><br />\n&nbsp\;
LOCATION:Doubletree Hotel 924 W. Huntington Drive Monrovia\, CA 91016
UID:e.2114.1689
SEQUENCE:3
DTSTAMP:20260423T202143Z
URL:https://www.monroviacc.com/events/details/monrovia-chamber-awards-gala-membership-dinner-1689
END:VEVENT

END:VCALENDAR
