BEGIN:VCALENDAR
VERSION:2.0
PRODID:-//ChamberMaster//Event Calendar 2.0//EN
METHOD:PUBLISH
X-PUBLISHED-TTL:P3D
REFRESH-INTERVAL:P3D
CALSCALE:GREGORIAN
BEGIN:VEVENT
DTSTART:20260511T153000Z
DTEND:20260511T170000Z
X-MICROSOFT-CDO-ALLDAYEVENT:FALSE
SUMMARY:Monrovia Business Seminar Series-AI for Small Business: Part 2: AI Sales Team
DESCRIPTION:AI for Small Business: From Curiosity to Competitive Advantage\n\nA 3-Part Educational Series for Monrovia Chamber Members\n\nOverview\n\nArtificial Intelligence is no longer a future concept   it is a practical business tool available right now to small business owners. This 3-part beginner-friendly series is designed specifically for Chamber members who want to understand AI\, apply it responsibly\, and use it to save time\, increase efficiency\, and improve marketing\, sales\, and operations.\n\nThis is not a technical or coding class. It is a practical\, hands-on workshop focused on real business use cases.\n\nParticipants will walk away with clear understanding\, real examples\, and ready-to-use prompts they can apply immediately.\n\n \n\n AI Sales Team-Replace Your Sales Department with an AI Sales Team\n\nWhat This Session Covers:\n\n \n\nPart 1 Recap\n\n\n	Key takeaways before we go hands-on.\n\n\n \n\nLive AI Demos\n\n\n	Marketing\, follow-up\, and sales ops   in real time.\n\n\n \n\nAutomation Without Code\n\n\n	Build repeatable systems you own.\n\n\n \n\nQ&A + Open Discussion\n\n\n	Your business. Your questions. Your roadmap.
X-ALT-DESC;FMTTYPE=text/html:<h2 dir="ltr" style="line-height:1.38\;margin-top:18pt\;margin-bottom:4pt\;"><span style="font-size:12px\;"><span id="docs-internal-guid-3c963971-7fff-5d00-626c-521b9c2239ad"><span style="font-family: Arial\, sans-serif\; font-variant-numeric: normal\; font-variant-east-asian: normal\; font-variant-alternates: normal\; font-variant-position: normal\; font-variant-emoji: normal\; vertical-align: baseline\; white-space-collapse: preserve\;">AI for Small Business: From Curiosity to Competitive Advantage</span></span></span></h2>\n\n<p dir="ltr" style="line-height:1.38\;margin-top:12pt\;margin-bottom:12pt\;"><span style="font-size:12px\;"><span id="docs-internal-guid-3c963971-7fff-5d00-626c-521b9c2239ad"><span style="font-family: Arial\, sans-serif\; font-weight: 700\; font-variant-numeric: normal\; font-variant-east-asian: normal\; font-variant-alternates: normal\; font-variant-position: normal\; font-variant-emoji: normal\; vertical-align: baseline\; white-space-collapse: preserve\;">A 3-Part Educational Series for Monrovia Chamber Members</span></span></span></p>\n\n<h3 dir="ltr" style="line-height:1.38\;margin-top:14pt\;margin-bottom:4pt\;"><span style="font-size:12px\;"><span id="docs-internal-guid-3c963971-7fff-5d00-626c-521b9c2239ad"><span style="font-family: Arial\, sans-serif\; font-variant-numeric: normal\; font-variant-east-asian: normal\; font-variant-alternates: normal\; font-variant-position: normal\; font-variant-emoji: normal\; vertical-align: baseline\; white-space-collapse: preserve\;">Overview</span></span></span></h3>\n\n<p dir="ltr" style="line-height:1.38\;margin-top:12pt\;margin-bottom:12pt\;"><span style="font-size:12px\;"><span id="docs-internal-guid-3c963971-7fff-5d00-626c-521b9c2239ad"><span style="font-family: Arial\, sans-serif\; font-variant-numeric: normal\; font-variant-east-asian: normal\; font-variant-alternates: normal\; font-variant-position: normal\; font-variant-emoji: normal\; vertical-align: baseline\; white-space-collapse: preserve\;">Artificial Intelligence is no longer a future concept &mdash\; it is a practical business tool available right now to small business owners. This 3-part beginner-friendly series is designed specifically for Chamber members who want to understand AI\, apply it responsibly\, and use it to save time\, increase efficiency\, and improve marketing\, sales\, and operations.</span></span></span></p>\n\n<p dir="ltr" style="line-height:1.38\;margin-top:12pt\;margin-bottom:12pt\;"><span style="color:#000000\;"><span style="font-size:12px\;"><span id="docs-internal-guid-3c963971-7fff-5d00-626c-521b9c2239ad"><span style="font-family: Arial\, sans-serif\; font-variant-numeric: normal\; font-variant-east-asian: normal\; font-variant-alternates: normal\; font-variant-position: normal\; font-variant-emoji: normal\; vertical-align: baseline\; white-space-collapse: preserve\;">This is not a technical or coding class. It is a practical\, hands-on workshop focused on real business use cases.</span></span></span></span></p>\n\n<p dir="ltr" style="line-height:1.38\;margin-top:12pt\;margin-bottom:12pt\;"><span style="color:#000000\;"><span style="font-size:12px\;"><span id="docs-internal-guid-3c963971-7fff-5d00-626c-521b9c2239ad"><span style="font-family: Arial\, sans-serif\; font-variant-numeric: normal\; font-variant-east-asian: normal\; font-variant-alternates: normal\; font-variant-position: normal\; font-variant-emoji: normal\; vertical-align: baseline\; white-space-collapse: preserve\;">Participants will walk away with clear understanding\, real examples\, and ready-to-use prompts they can apply immediately.</span></span></span></span></p>\n\n<div>&nbsp\;</div>\n\n<p dir="ltr" style="line-height:1.38\;margin-top:0pt\;margin-bottom:0pt\;"><span style="color:#000000\;"><span class="a_GcMg font-feature-liga-off font-feature-clig-off font-feature-calt-off text-decoration-none text-strikethrough-none" style="caret-color: rgb(180\, 180\, 180)\; --Ys-XuQ: none\; font-weight: 700\; font-kerning: normal\;">&nbsp\;AI Sales Team-Replace Your Sales Department with an AI Sales Team</span></span></p>\n\n<p class="cvGsUA direction-ltr align-justify para-style-body" style="color: rgba(217\,217\,217\,var(--O42jJQ\,1))\; caret-color: rgb(217\, 217\, 217)\; --8sD0Kg: none\; font-family: YAFdJvSyp_k_2\, _fb_\, auto\; --cyV3ZQ: 17.3333px\; --gJPlXQ: 1\; --s8NbEA: h3\; line-height: 17px\;"><span style="color:#000000\;"><span class="a_GcMg font-feature-liga-off font-feature-clig-off font-feature-calt-off text-decoration-none text-strikethrough-none" style="--Ys-XuQ: none\; font-kerning: normal\;">What This Session Covers:</span></span></p>\n\n<p class="cvGsUA direction-ltr align-justify para-style-body" style="color: rgba(217\,217\,217\,var(--O42jJQ\,1))\; caret-color: rgb(217\, 217\, 217)\; --8sD0Kg: none\; font-family: YAFdJvSyp_k_2\, _fb_\, auto\; --cyV3ZQ: 17.3333px\; --gJPlXQ: 1\; --s8NbEA: p\; line-height: 17px\;">&nbsp\;</p>\n\n<p class="cvGsUA direction-ltr align-justify para-style-body" style="color: rgba(217\,217\,217\,var(--O42jJQ\,1))\; caret-color: rgb(217\, 217\, 217)\; --8sD0Kg: none\; font-family: YAFdJvSyp_k_2\, _fb_\, auto\; --cyV3ZQ: 17.3333px\; --gJPlXQ: 1\; --s8NbEA: p\; line-height: 17px\;"><span style="color:#000000\;"><span class="a_GcMg font-feature-liga-off font-feature-clig-off font-feature-calt-off text-decoration-none text-strikethrough-none" style="--Ys-XuQ: none\; font-kerning: normal\;">Part 1 Recap</span></span></p>\n\n<ul>\n	<li><span style="color:#000000\;"><span class="a_GcMg font-feature-liga-off font-feature-clig-off font-feature-calt-off text-decoration-none text-strikethrough-none" style="caret-color: rgb(217\, 217\, 217)\; --Ys-XuQ: none\; font-kerning: normal\;">Key takeaways before we go hands-on.</span></span></li>\n</ul>\n\n<p class="cvGsUA direction-ltr align-justify para-style-body" style="color: rgba(217\,217\,217\,var(--O42jJQ\,1))\; caret-color: rgb(217\, 217\, 217)\; --8sD0Kg: none\; font-family: YAFdJvSyp_k_2\, _fb_\, auto\; --cyV3ZQ: 17.3333px\; --gJPlXQ: 1\; --s8NbEA: p\; line-height: 17px\;">&nbsp\;</p>\n\n<p class="cvGsUA direction-ltr align-justify para-style-body" style="color: rgba(217\,217\,217\,var(--O42jJQ\,1))\; caret-color: rgb(217\, 217\, 217)\; --8sD0Kg: none\; font-family: YAFdJvSyp_k_2\, _fb_\, auto\; --cyV3ZQ: 17.3333px\; --gJPlXQ: 1\; --s8NbEA: p\; line-height: 17px\;"><span style="color:#000000\;"><span class="a_GcMg font-feature-liga-off font-feature-clig-off font-feature-calt-off text-decoration-none text-strikethrough-none" style="--Ys-XuQ: none\; font-kerning: normal\;">Live AI Demos</span></span></p>\n\n<ul>\n	<li><span style="color:#000000\;"><span class="a_GcMg font-feature-liga-off font-feature-clig-off font-feature-calt-off text-decoration-none text-strikethrough-none" style="caret-color: rgb(217\, 217\, 217)\; --Ys-XuQ: none\; font-kerning: normal\;">Marketing\, follow-up\, and sales ops &mdash\; in real time.</span></span></li>\n</ul>\n\n<p class="cvGsUA direction-ltr align-justify para-style-body" style="color: rgba(217\,217\,217\,var(--O42jJQ\,1))\; caret-color: rgb(217\, 217\, 217)\; --8sD0Kg: none\; font-family: YAFdJvSyp_k_2\, _fb_\, auto\; --cyV3ZQ: 17.3333px\; --gJPlXQ: 1\; --s8NbEA: p\; line-height: 17px\;">&nbsp\;</p>\n\n<p class="cvGsUA direction-ltr align-justify para-style-body" style="color: rgba(217\,217\,217\,var(--O42jJQ\,1))\; caret-color: rgb(217\, 217\, 217)\; --8sD0Kg: none\; font-family: YAFdJvSyp_k_2\, _fb_\, auto\; --cyV3ZQ: 17.3333px\; --gJPlXQ: 1\; --s8NbEA: p\; line-height: 17px\;"><span style="color:#000000\;"><span class="a_GcMg font-feature-liga-off font-feature-clig-off font-feature-calt-off text-decoration-none text-strikethrough-none" style="--Ys-XuQ: none\; font-kerning: normal\;">Automation Without Code</span></span></p>\n\n<ul>\n	<li><span style="color:#000000\;"><span class="a_GcMg font-feature-liga-off font-feature-clig-off font-feature-calt-off text-decoration-none text-strikethrough-none" style="caret-color: rgb(217\, 217\, 217)\; --Ys-XuQ: none\; font-kerning: normal\;">Build repeatable systems you own.</span></span></li>\n</ul>\n\n<p class="cvGsUA direction-ltr align-justify para-style-body" style="color: rgba(217\,217\,217\,var(--O42jJQ\,1))\; caret-color: rgb(217\, 217\, 217)\; --8sD0Kg: none\; font-family: YAFdJvSyp_k_2\, _fb_\, auto\; --cyV3ZQ: 17.3333px\; --gJPlXQ: 1\; --s8NbEA: p\; line-height: 17px\;">&nbsp\;</p>\n\n<p class="cvGsUA direction-ltr align-justify para-style-body" style="color: rgba(217\,217\,217\,var(--O42jJQ\,1))\; caret-color: rgb(217\, 217\, 217)\; --8sD0Kg: none\; font-family: YAFdJvSyp_k_2\, _fb_\, auto\; --cyV3ZQ: 17.3333px\; --gJPlXQ: 1\; --s8NbEA: p\; line-height: 17px\;"><span style="color:#000000\;"><span class="a_GcMg font-feature-liga-off font-feature-clig-off font-feature-calt-off text-decoration-none text-strikethrough-none" style="--Ys-XuQ: none\; font-kerning: normal\;">Q&amp\;A + Open Discussion</span></span></p>\n\n<ul>\n	<li><span class="a_GcMg font-feature-liga-off font-feature-clig-off font-feature-calt-off text-decoration-none text-strikethrough-none" style="caret-color: rgb(217\, 217\, 217)\; --Ys-XuQ: none\; font-kerning: normal\;">Your business. Your questions. Your roadmap.</span></li>\n</ul>\n\n<div>&nbsp\;</div>\n
LOCATION:Monrovia Public Library Community Room 321 S. Myrtle Ave. Monrovia CA 91016
UID:e.2114.3756
SEQUENCE:3
DTSTAMP:20260423T032623Z
URL:https://www.monroviacc.com/events/details/monrovia-business-seminar-series-ai-for-small-business-part-2-ai-sales-team-3756
END:VEVENT

END:VCALENDAR
