BEGIN:VCALENDAR
VERSION:2.0
PRODID:-//ChamberMaster//Event Calendar 2.0//EN
METHOD:PUBLISH
X-PUBLISHED-TTL:P3D
REFRESH-INTERVAL:P3D
CALSCALE:GREGORIAN
BEGIN:VEVENT
DTSTART:20230920T183000Z
DTEND:20230920T200000Z
X-MICROSOFT-CDO-ALLDAYEVENT:FALSE
SUMMARY:Lunch Mob Networking Event
DESCRIPTION:Monrovia Chamber Lunch Mob\n\nPlace your order & pay for your own lunch. Support this chamber member & increase their business. Connect with Chamber Members & other professionals!
X-ALT-DESC;FMTTYPE=text/html:<u style="margin: 0px\; padding: 0px\; border: 0px\; font-variant-numeric: inherit\; font-variant-east-asian: inherit\; font-stretch: inherit\; font-size: 15px\; line-height: inherit\; font-family: &quot\;PT Sans&quot\;\, sans-serif\; vertical-align: baseline\; box-sizing: border-box\; outline: 0px\; color: rgb(64\, 48\, 48)\; background-color: rgb(255\, 255\, 255)\;">Monrovia Chamber Lunch Mob</u><br style="box-sizing: border-box\; color: rgb(64\, 48\, 48)\; font-family: &quot\;PT Sans&quot\;\, sans-serif\; font-size: 15px\; background-color: rgb(255\, 255\, 255)\;" />\n<span style="color: rgb(64\, 48\, 48)\; font-family: &quot\;PT Sans&quot\;\, sans-serif\; font-size: 15px\; background-color: rgb(255\, 255\, 255)\;">Place your order &amp\; pay for your own lunch. Support this chamber member &amp\; increase their business. Connect with Chamber Members &amp\; other professionals!</span>
LOCATION:Mikomi Sushi 601 S. Myrtle Ave. Monrovia\, CA 91016
UID:e.2114.2487
SEQUENCE:3
DTSTAMP:20260425T214346Z
URL:https://www.monroviacc.com/events/details/lunch-mob-09-20-2023-2487
END:VEVENT

END:VCALENDAR
